BEGIN:VCALENDAR
VERSION:2.0
PRODID:-//Decostop - ECPv4.6.18//NONSGML v1.0//EN
CALSCALE:GREGORIAN
METHOD:PUBLISH
X-WR-CALNAME:Decostop
X-ORIGINAL-URL:https://www.decostop.it
X-WR-CALDESC:Events for Decostop
BEGIN:VEVENT
DTSTART;TZID=UTC+1:20180903T203000
DTEND;TZID=UTC+1:20180903T203000
DTSTAMP:20180628T012315
CREATED:20180105T195334Z
LAST-MODIFIED:20180109T071657Z
UID:341-1536006600-1536006600@www.decostop.it
SUMMARY:Presentazione Corso 3° OWD
DESCRIPTION:A chi è rivolto questo corso?\nSe hai sempre voluto fare un corso sub\, sperimentare un’avventura senza precedenti e osservare il mondo sommerso\, questo è il punto di partenza. Ottieni il tuo brevetto sub con il corso PADI Open Water Diver – il corso subacqueo più popolare e riconosciuto al mondo. Tramite questo corso\, che ti permetterà di raggiungere la profondità di 18 metri\, milioni di persone hanno imparato a immergersi e continuato a scoprire le meraviglie del mondo acquatico. \nPer iscriverti a un corso PADI Open Water Diver (o Junior Open Water Diver)\, devi avere almeno 10 anni ed essere in buone condizioni di salute. Non è richiesta alcuna precedente esperienza di immersione. \nChe cosa imparerai?\nIl corso PADI Open Water Diver consiste di tre fasi principali: \n\nSviluppo teorico (online\, con studio autonomo o in classe) – per comprendere i principi basilari dell’immersione\nImmersioni in acqua confinata – per apprendere le abilità di base\nImmersioni in acqua libera – per utilizzare le tue abilità ed esplorare!\n\n
URL:https://www.decostop.it/eventi/presentazione-corso-3-owd/
LOCATION:Via Leonardo Da Vinci\, 67\,\, Piacenza\, 29122\, Italia
CATEGORIES:Corsi
ATTACH;FMTTYPE=image/jpeg:https://www.decostop.it/wp-content/uploads/2017/12/Decostop-3620.jpg
END:VEVENT
BEGIN:VEVENT
DTSTART;VALUE=DATE:20180927
DTEND;VALUE=DATE:20181001
DTSTAMP:20180628T012315
CREATED:20180105T193852Z
LAST-MODIFIED:20180412T153204Z
UID:329-1538006400-1538351999@www.decostop.it
SUMMARY:Fine settimana all'Isola d'Elba
DESCRIPTION:Nel mese di settembre\, quando l’acqua del mare è più calda\, sarà l’occasione per immergerci all’Isola d’Elba\, un’oasi verde nell’Arcipelago Toscano: spiagge dorate che carezzano le acque cristalline\, massicci granitici immersi nella macchia\, meta ideale per subacquei ed accompagnatori. \nEffettueremo immersioni su alcuni dei più spettacolari punti d’immersione dell’isola d’Elba ed all’interno della zona di PARCO INTEGRALE dell’Isola di Pianosa\, un vero paradiso subacqueo\, con accesso riservato a pochi subacquei ogni giorno\, presenza di banchi enormi di barracuda\, cernie stanziali anche di enormi dimensioni\, dentici\, ricciole e altro pesce pelagico. \nOrganizzazione “MB Service srl” \n  \n
URL:https://www.decostop.it/eventi/fine-settimana-allisola-delba/
LOCATION:Isola d'Elba\, Italia
CATEGORIES:Vacanze
ATTACH;FMTTYPE=image/jpeg:https://www.decostop.it/wp-content/uploads/2018/01/isola-dElba-siti-immersioni.jpg
END:VEVENT
BEGIN:VEVENT
DTSTART;TZID=UTC+1:20181002T203000
DTEND;TZID=UTC+1:20181002T203000
DTSTAMP:20180628T012315
CREATED:20180105T194941Z
LAST-MODIFIED:20180110T104432Z
UID:337-1538512200-1538512200@www.decostop.it
SUMMARY:Presentazione Corso RESCUE
DESCRIPTION:A chi è rivolto questo corso?\nI subacquei descrivono il corso PADI Rescue Diver come il più impegnativo\, ma anche il più soddisfacente\, che abbiano mai fatto. Perché? Perché impari a prevenire e a gestire i problemi in acqua\, e diventi più sicuro nelle tue abilità sapendo che\, in caso di bisogno\, potrai aiutare gli altri. Durante il corso\, imparerai a diventare un miglior compagno d’immersione\, praticando abilità di risoluzione problemi finché non ti diverranno istintive. Inoltre\, il corso è puro divertimento: cioè\, è serio\, ma tra le sessioni di addestramento ti permetterà di divertirti. \nSe hai almeno 12 anni e sei brevettato PADI Advance Open Water Diver (oppure PADI Adventure Diver e hai completato la Underwater Navigation Adventure Dive)\, potrai iscriverti al corso PADI Rescue Diver. Inoltre\, dovrai aver effettuato un corso Emergency First Response Primary and Secondary Care (RCP e Primo Soccorso) nei 24 mesi precedenti. Potrai fare questo addestramento durante il corso Rescue Diver. Allo stesso tempo\, il tuo istruttore potrebbe offrirti il corso di specialità PADI Emergency Oxygen Provider. \nChe cosa imparerai?\nUsando una varietà di tecniche\, il corso PADI Rescue Diver ti prepara a gestire piccole e grandi emergenze subacquee. Tramite lo sviluppo teorico ed esercizi di soccorso\, imparerai cosa notare e come rispondere. Durante alcuni scenari di soccorso\, metterai in pratica le tue conoscenze e le tue abilità. Tra i vari argomenti affrontati: \n\nAuto soccorso\nRiconoscere e gestire lo stress in altri subacquei\nGestione e attrezzatura per le emergenze\nSoccorrere un subacqueo in panico\nSoccorrere un subacqueo incosciente\nRicercare un subacqueo disperso\n\n \n
URL:https://www.decostop.it/eventi/presentazione-corso-rescue/
LOCATION:Via Leonardo Da Vinci\, 67\,\, Piacenza\, 29122\, Italia
CATEGORIES:Corsi
ATTACH;FMTTYPE=image/jpeg:https://www.decostop.it/wp-content/uploads/2017/12/Decostop-3620.jpg
END:VEVENT
BEGIN:VEVENT
DTSTART;VALUE=DATE:20181014
DTEND;VALUE=DATE:20181022
DTSTAMP:20180628T012315
CREATED:20180105T194147Z
LAST-MODIFIED:20180412T152346Z
UID:332-1539475200-1540166399@www.decostop.it
SUMMARY:Settimana a Sharm
DESCRIPTION:Ritenuta da sempre meta prediletta degli appassionati subacquei grazie anche alla facilità dei collegamenti dall’Italia ed all’economicità\, Sharm El Sheikh rappresenta il meglio della subacquea alle porte di casa. \nLa splendida barriera corallina che corre parallela alla costa\, richiama sub da tutto il mondo offrendo bellissimi scenari sottomarini\, grazie agli oltre quaranta punti di immersione ed una strabiliante ricchezza di vita marina. \nUna settimana di  immersioni con uscite in barca in full-day all’interno del parco nazionale di Ras Mohammed\, situato nella punta meridionale del Sinai\, nello stretto di Tiran e sulle local dives. \nI suoi magnifici fondali pullulano di vita marina ed offrono le più belle immersioni del Mar Rosso\, dove coralli di fuoco molli\, gorgonie giganti ed alcionari si susseguono senza soluzione di continuità creando un coloratissimo universo marino abitato da pesci chirurgo\, angelo\, farfalla\, leone\, napoleone\, murene\, cernie\, tartarughe\, barracuda e grandi pelagici. \nUn’imperdibile occasione di divertimento\, relax e con la possibilità di effettuare o terminare corsi sub base\, avanzati o di specialità. \nOrganizzazione “Non Solo Sogni – Travel Business” \n  \n
URL:https://www.decostop.it/eventi/settimana-a-sharm-2/
LOCATION:Sharm el Sheik\, Egitto
CATEGORIES:Vacanze
ATTACH;FMTTYPE=image/jpeg:https://www.decostop.it/wp-content/uploads/2018/01/IMG_9731.jpg
END:VEVENT
END:VCALENDAR