BEGIN:VCALENDAR
VERSION:2.0
PRODID:-//Decostop - ECPv6.15.18//NONSGML v1.0//EN
CALSCALE:GREGORIAN
METHOD:PUBLISH
X-ORIGINAL-URL:https://www.decostop.it
X-WR-CALDESC:Eventi per Decostop
REFRESH-INTERVAL;VALUE=DURATION:PT1H
X-Robots-Tag:noindex
X-PUBLISHED-TTL:PT1H
BEGIN:VTIMEZONE
TZID:Europe/Helsinki
BEGIN:DAYLIGHT
TZOFFSETFROM:+0200
TZOFFSETTO:+0300
TZNAME:EEST
DTSTART:20200329T010000
END:DAYLIGHT
BEGIN:STANDARD
TZOFFSETFROM:+0300
TZOFFSETTO:+0200
TZNAME:EET
DTSTART:20201025T010000
END:STANDARD
BEGIN:DAYLIGHT
TZOFFSETFROM:+0200
TZOFFSETTO:+0300
TZNAME:EEST
DTSTART:20210328T010000
END:DAYLIGHT
BEGIN:STANDARD
TZOFFSETFROM:+0300
TZOFFSETTO:+0200
TZNAME:EET
DTSTART:20211031T010000
END:STANDARD
BEGIN:DAYLIGHT
TZOFFSETFROM:+0200
TZOFFSETTO:+0300
TZNAME:EEST
DTSTART:20220327T010000
END:DAYLIGHT
BEGIN:STANDARD
TZOFFSETFROM:+0300
TZOFFSETTO:+0200
TZNAME:EET
DTSTART:20221030T010000
END:STANDARD
END:VTIMEZONE
BEGIN:VEVENT
DTSTART;VALUE=DATE:20211003
DTEND;VALUE=DATE:20211009
DTSTAMP:20260420T112032
CREATED:20201230T105824Z
LAST-MODIFIED:20210906T072745Z
UID:1418-1633219200-1633737599@www.decostop.it
SUMMARY:Settimana blu all'Isola di Ponza
DESCRIPTION:Non ci arrendiamo mai!!! Sempre alla ricerca di nuovi fondali\, per il mese di ottobre abbiamo programmato una settimana blu all’isola di Ponza. \nSplendidi full day a bordo di una barca dotata di ogni confort e comodità studiata per la sicurezza delle attività subacquee. \nI tantissimi punti di immersione a Ponza e le sue acque cristalline vi regaleranno emozioni mozzafiato.
URL:https://www.decostop.it/eventi/settimana-blu-allisola-di-ponza/
LOCATION:Isola di Ponza\, Isola di Ponza\, Italia
CATEGORIES:Vacanze
ATTACH;FMTTYPE=image/jpeg:https://www.decostop.it/wp-content/uploads/2020/12/Isola-di-Ponza01.jpg
ORGANIZER;CN="Riccardo Botti":MAILTO:info@decostop.it
END:VEVENT
END:VCALENDAR