BEGIN:VCALENDAR
VERSION:2.0
PRODID:-//Decostop - ECPv6.15.18//NONSGML v1.0//EN
CALSCALE:GREGORIAN
METHOD:PUBLISH
X-ORIGINAL-URL:https://www.decostop.it
X-WR-CALDESC:Eventi per Decostop
REFRESH-INTERVAL;VALUE=DURATION:PT1H
X-Robots-Tag:noindex
X-PUBLISHED-TTL:PT1H
BEGIN:VTIMEZONE
TZID:Europe/Helsinki
BEGIN:DAYLIGHT
TZOFFSETFROM:+0200
TZOFFSETTO:+0300
TZNAME:EEST
DTSTART:20190331T010000
END:DAYLIGHT
BEGIN:STANDARD
TZOFFSETFROM:+0300
TZOFFSETTO:+0200
TZNAME:EET
DTSTART:20191027T010000
END:STANDARD
BEGIN:DAYLIGHT
TZOFFSETFROM:+0200
TZOFFSETTO:+0300
TZNAME:EEST
DTSTART:20200329T010000
END:DAYLIGHT
BEGIN:STANDARD
TZOFFSETFROM:+0300
TZOFFSETTO:+0200
TZNAME:EET
DTSTART:20201025T010000
END:STANDARD
BEGIN:DAYLIGHT
TZOFFSETFROM:+0200
TZOFFSETTO:+0300
TZNAME:EEST
DTSTART:20210328T010000
END:DAYLIGHT
BEGIN:STANDARD
TZOFFSETFROM:+0300
TZOFFSETTO:+0200
TZNAME:EET
DTSTART:20211031T010000
END:STANDARD
END:VTIMEZONE
BEGIN:VEVENT
DTSTART;TZID=Europe/Helsinki:20200323T200000
DTEND;TZID=Europe/Helsinki:20200323T220000
DTSTAMP:20260423T052312
CREATED:20191012T105558Z
LAST-MODIFIED:20191012T111252Z
UID:817-1584993600-1585000800@www.decostop.it
SUMMARY:Presentazione corso Open Water Diver 2019
DESCRIPTION:A chi è rivolto questo corso?\nSe hai sempre voluto fare un corso sub\, sperimentare un’avventura senza precedenti e osservare il mondo sommerso\, questo è il punto di partenza. Ottieni il tuo brevetto sub con il corso PADI Open Water Diver il corso subacqueo più popolare e riconosciuto al mondo. Tramite questo corso\, che ti permetterà di raggiungere la profondità di 18 metri\, milioni di persone hanno imparato a immergersi e continuato a scoprire le meraviglie del mondo acquatico. \nPer iscriverti a un corso PADI Open Water Diver (o Junior Open Water Diver)\, devi avere almeno 10 anni ed essere in buone condizioni di salute. Non è richiesta alcuna precedente esperienza di immersione. \nChe cosa imparerai?\nIl corso PADI Open Water Diver consiste di tre fasi principali: \n\nSviluppo teorico (online\, con studio autonomo o in classe) – per comprendere i principi basilari dell’immersione\nImmersioni in acqua confinata – per apprendere le abilità di base\nImmersioni in acqua libera – per utilizzare le tue abilità ed esplorare!\n\nAttrezzatura\nDurante il programma PADI Open Water Diver\, imparerai ad usare l’attrezzatura di base\, tra cui maschera\, snorkel\, pinne\, erogatore\, giubbotto ad assetto variabile e una bombola. L’attrezzatura che userai sarò diversa a seconda che tu ti immerga in acque tropicali\, temperate o fredde. \n 
URL:https://www.decostop.it/eventi/presentazione-corso-open-water-diver-2019/
LOCATION:Decostop\, Via Leonardo Da Vinci\, 67\,\, Piacenza\, 29122\, Italia
CATEGORIES:Corsi
ATTACH;FMTTYPE=image/jpeg:https://www.decostop.it/wp-content/uploads/2019/10/DECOSTOP-CORSO-OWD-PADI.jpg
ORGANIZER;CN="Riccardo Botti":MAILTO:info@decostop.it
END:VEVENT
END:VCALENDAR